BEGIN:VCALENDAR
VERSION:2.0
PRODID:DPCALENDAR
CALSCALE:GREGORIAN
X-WR-TIMEZONE:UTC
BEGIN:VEVENT
DTSTART;VALUE=DATE:20260501
DTEND;VALUE=DATE:20260502
UID:f2c530711e4c2c47096be208cce1cd57
RECURRENCE-ID;VALUE=DATE:20260501
SUMMARY:Día del trabajo
DTSTAMP:20260422T141839Z
DESCRIPTION:
X-ALT-DESC;FMTTYPE=text/html:
LOCATION:
X-ACCESS:1
X-MODIFIED:20260422T141839Z
X-HITS:0
X-URL:
X-COLOR:
END:VEVENT
END:VCALENDAR